BEGIN:VCALENDAR
VERSION:2.0
PRODID:-//McConnell AFB Library - ECPv6.15.20//NONSGML v1.0//EN
CALSCALE:GREGORIAN
METHOD:PUBLISH
X-ORIGINAL-URL:https://www.mcconnellafblibrary.com
X-WR-CALDESC:Events for McConnell AFB Library
REFRESH-INTERVAL;VALUE=DURATION:PT1H
X-Robots-Tag:noindex
X-PUBLISHED-TTL:PT1H
BEGIN:VTIMEZONE
TZID:America/Chicago
BEGIN:DAYLIGHT
TZOFFSETFROM:-0600
TZOFFSETTO:-0500
TZNAME:CDT
DTSTART:20230312T080000
END:DAYLIGHT
BEGIN:STANDARD
TZOFFSETFROM:-0500
TZOFFSETTO:-0600
TZNAME:CST
DTSTART:20231105T070000
END:STANDARD
BEGIN:DAYLIGHT
TZOFFSETFROM:-0600
TZOFFSETTO:-0500
TZNAME:CDT
DTSTART:20240310T080000
END:DAYLIGHT
BEGIN:STANDARD
TZOFFSETFROM:-0500
TZOFFSETTO:-0600
TZNAME:CST
DTSTART:20241103T070000
END:STANDARD
BEGIN:DAYLIGHT
TZOFFSETFROM:-0600
TZOFFSETTO:-0500
TZNAME:CDT
DTSTART:20250309T080000
END:DAYLIGHT
BEGIN:STANDARD
TZOFFSETFROM:-0500
TZOFFSETTO:-0600
TZNAME:CST
DTSTART:20251102T070000
END:STANDARD
END:VTIMEZONE
BEGIN:VEVENT
DTSTART;VALUE=DATE:20240101
DTEND;VALUE=DATE:20240102
DTSTAMP:20260424T215201
CREATED:20231101T212350Z
LAST-MODIFIED:20231201T160852Z
UID:6215-1704067200-1704153599@www.mcconnellafblibrary.com
SUMMARY:Closed-New Year's Day
DESCRIPTION:
URL:https://www.mcconnellafblibrary.com/event/closed-new-years-day/
CATEGORIES:Holiday
ATTACH;FMTTYPE=image/png:https://www.mcconnellafblibrary.com/wp-content/uploads/2023/11/New-Years-Day.png
END:VEVENT
BEGIN:VEVENT
DTSTART;TZID=America/Chicago:20240102T080000
DTEND;TZID=America/Chicago:20240229T170000
DTSTAMP:20260424T215201
CREATED:20231201T200202Z
LAST-MODIFIED:20231201T200202Z
UID:6276-1704182400-1709226000@www.mcconnellafblibrary.com
SUMMARY:WINTER ADULT READING PROGRAM
DESCRIPTION:
URL:https://www.mcconnellafblibrary.com/event/winter-adult-reading-program/
CATEGORIES:Adult
ATTACH;FMTTYPE=image/png:https://www.mcconnellafblibrary.com/wp-content/uploads/2023/12/7th-Annual-Winter-Adult-reading-Program.png
END:VEVENT
BEGIN:VEVENT
DTSTART;TZID=America/Chicago:20240102T130000
DTEND;TZID=America/Chicago:20240102T150000
DTSTAMP:20260424T215201
CREATED:20231101T212227Z
LAST-MODIFIED:20231201T160639Z
UID:6213-1704200400-1704207600@www.mcconnellafblibrary.com
SUMMARY:Snow Place Like McConnell Program- New Year\, New You!
DESCRIPTION:
URL:https://www.mcconnellafblibrary.com/event/snow-place-like-mcconnell-program-3/
CATEGORIES:Family
ATTACH;FMTTYPE=image/jpeg:https://www.mcconnellafblibrary.com/wp-content/uploads/2023/11/Snowplace-like-home-11-x-8.5-in-2.jpg
END:VEVENT
BEGIN:VEVENT
DTSTART;TZID=America/Chicago:20240109T100000
DTEND;TZID=America/Chicago:20240109T110000
DTSTAMP:20260424T215201
CREATED:20231201T191049Z
LAST-MODIFIED:20231201T191049Z
UID:6240-1704794400-1704798000@www.mcconnellafblibrary.com
SUMMARY:Story Time
DESCRIPTION:
URL:https://www.mcconnellafblibrary.com/event/story-time-64/
LOCATION:Library Sunflower Room\, Across the hall from the Library\, United States
CATEGORIES:Preschool
ATTACH;FMTTYPE=image/png:https://www.mcconnellafblibrary.com/wp-content/uploads/2023/12/PSST-1-9-24.png
END:VEVENT
BEGIN:VEVENT
DTSTART;TZID=America/Chicago:20240111T140000
DTEND;TZID=America/Chicago:20240111T153000
DTSTAMP:20260424T215201
CREATED:20231201T194328Z
LAST-MODIFIED:20231214T170028Z
UID:6244-1704981600-1704987000@www.mcconnellafblibrary.com
SUMMARY:HOMESCHOOL HOOKUP
DESCRIPTION:
URL:https://www.mcconnellafblibrary.com/event/homeschool-hookup-8/
LOCATION:TORNADO ALLEY
CATEGORIES:School Age
ATTACH;FMTTYPE=image/png:https://www.mcconnellafblibrary.com/wp-content/uploads/2023/12/Homeschool-Hook-Up-January.png
END:VEVENT
BEGIN:VEVENT
DTSTART;VALUE=DATE:20240112
DTEND;VALUE=DATE:20240113
DTSTAMP:20260424T215201
CREATED:20231101T212433Z
LAST-MODIFIED:20231201T194513Z
UID:6218-1705017600-1705103999@www.mcconnellafblibrary.com
SUMMARY:Closed-AMC Family Day
DESCRIPTION:
URL:https://www.mcconnellafblibrary.com/event/closed-amc-family-day-9/
CATEGORIES:Closed
ATTACH;FMTTYPE=image/png:https://www.mcconnellafblibrary.com/wp-content/uploads/2023/11/January-Closures-1.png
END:VEVENT
BEGIN:VEVENT
DTSTART;VALUE=DATE:20240115
DTEND;VALUE=DATE:20240116
DTSTAMP:20260424T215201
CREATED:20231101T212528Z
LAST-MODIFIED:20231201T194550Z
UID:6220-1705276800-1705363199@www.mcconnellafblibrary.com
SUMMARY:Closed- Martin Luther King\, Jr. Day
DESCRIPTION:
URL:https://www.mcconnellafblibrary.com/event/closed-martin-luther-king-jr-day/
CATEGORIES:Holiday
ATTACH;FMTTYPE=image/png:https://www.mcconnellafblibrary.com/wp-content/uploads/2023/11/MLK-Jr-Day.png
END:VEVENT
BEGIN:VEVENT
DTSTART;TZID=America/Chicago:20240116T100000
DTEND;TZID=America/Chicago:20240116T110000
DTSTAMP:20260424T215201
CREATED:20231201T194721Z
LAST-MODIFIED:20231201T194721Z
UID:6250-1705399200-1705402800@www.mcconnellafblibrary.com
SUMMARY:STORY TIME
DESCRIPTION:
URL:https://www.mcconnellafblibrary.com/event/story-time-65/
LOCATION:Library Sunflower Room\, Across the hall from the Library\, United States
CATEGORIES:Preschool
ATTACH;FMTTYPE=image/png:https://www.mcconnellafblibrary.com/wp-content/uploads/2023/12/PSST-1-16-24.png
END:VEVENT
BEGIN:VEVENT
DTSTART;TZID=America/Chicago:20240117T163000
DTEND;TZID=America/Chicago:20240117T173000
DTSTAMP:20260424T215201
CREATED:20231201T194844Z
LAST-MODIFIED:20231201T194844Z
UID:6253-1705509000-1705512600@www.mcconnellafblibrary.com
SUMMARY:KANZA KIDS
DESCRIPTION:
URL:https://www.mcconnellafblibrary.com/event/kanza-kids-30/
LOCATION:Youth Center\, McConnell AFB
CATEGORIES:School Age
ATTACH;FMTTYPE=image/png:https://www.mcconnellafblibrary.com/wp-content/uploads/2023/12/January-Kanza-Kids.png
END:VEVENT
BEGIN:VEVENT
DTSTART;TZID=America/Chicago:20240122T173000
DTEND;TZID=America/Chicago:20240122T183000
DTSTAMP:20260424T215201
CREATED:20231201T195223Z
LAST-MODIFIED:20231201T195223Z
UID:6259-1705944600-1705948200@www.mcconnellafblibrary.com
SUMMARY:AS THE PAGE TURNS
DESCRIPTION:
URL:https://www.mcconnellafblibrary.com/event/as-the-page-turns-13/
LOCATION:Library Sunflower Room\, Across the hall from the Library\, United States
CATEGORIES:Adult
ATTACH;FMTTYPE=image/png:https://www.mcconnellafblibrary.com/wp-content/uploads/2023/12/As-the-Page-Turns.png
END:VEVENT
BEGIN:VEVENT
DTSTART;TZID=America/Chicago:20240122T190000
DTEND;TZID=America/Chicago:20240122T203000
DTSTAMP:20260424T215201
CREATED:20231201T195400Z
LAST-MODIFIED:20231201T195400Z
UID:6262-1705950000-1705955400@www.mcconnellafblibrary.com
SUMMARY:CRAFTAHOLICS
DESCRIPTION:
URL:https://www.mcconnellafblibrary.com/event/craftaholics-17/
LOCATION:Library Sunflower Room\, Across the hall from the Library\, United States
CATEGORIES:Adult
ATTACH;FMTTYPE=image/png:https://www.mcconnellafblibrary.com/wp-content/uploads/2023/12/Craftaholics.png
END:VEVENT
BEGIN:VEVENT
DTSTART;TZID=America/Chicago:20240123T100000
DTEND;TZID=America/Chicago:20240123T110000
DTSTAMP:20260424T215201
CREATED:20231201T195619Z
LAST-MODIFIED:20231201T195619Z
UID:6268-1706004000-1706007600@www.mcconnellafblibrary.com
SUMMARY:STORY TIME
DESCRIPTION:
URL:https://www.mcconnellafblibrary.com/event/story-time-67/
LOCATION:Library Sunflower Room\, Across the hall from the Library\, United States
CATEGORIES:Preschool
ATTACH;FMTTYPE=image/png:https://www.mcconnellafblibrary.com/wp-content/uploads/2023/12/PSST-1-23-24.png
END:VEVENT
BEGIN:VEVENT
DTSTART;TZID=America/Chicago:20240130T100000
DTEND;TZID=America/Chicago:20240130T110000
DTSTAMP:20260424T215201
CREATED:20231201T195851Z
LAST-MODIFIED:20231201T195851Z
UID:6270-1706608800-1706612400@www.mcconnellafblibrary.com
SUMMARY:STORY TIME
DESCRIPTION:
URL:https://www.mcconnellafblibrary.com/event/story-time-68/
LOCATION:Library Sunflower Room\, Across the hall from the Library\, United States
CATEGORIES:Preschool
ATTACH;FMTTYPE=image/png:https://www.mcconnellafblibrary.com/wp-content/uploads/2023/12/PSST-1-30-24.png
END:VEVENT
BEGIN:VEVENT
DTSTART;TZID=America/Chicago:20240131T163000
DTEND;TZID=America/Chicago:20240131T173000
DTSTAMP:20260424T215201
CREATED:20231201T200020Z
LAST-MODIFIED:20231201T200020Z
UID:6273-1706718600-1706722200@www.mcconnellafblibrary.com
SUMMARY:STEM CLUB
DESCRIPTION:
URL:https://www.mcconnellafblibrary.com/event/stem-club-28/
LOCATION:YOUTH CENTER\, MCCONNELL AFB
CATEGORIES:School Age
ATTACH;FMTTYPE=image/png:https://www.mcconnellafblibrary.com/wp-content/uploads/2023/12/January-STEM-Club.png
END:VEVENT
END:VCALENDAR