BEGIN:VCALENDAR
VERSION:2.0
PRODID:-//McConnell AFB Library - ECPv6.15.20//NONSGML v1.0//EN
CALSCALE:GREGORIAN
METHOD:PUBLISH
X-WR-CALNAME:McConnell AFB Library
X-ORIGINAL-URL:https://www.mcconnellafblibrary.com
X-WR-CALDESC:Events for McConnell AFB Library
REFRESH-INTERVAL;VALUE=DURATION:PT1H
X-Robots-Tag:noindex
X-PUBLISHED-TTL:PT1H
BEGIN:VTIMEZONE
TZID:America/Chicago
BEGIN:DAYLIGHT
TZOFFSETFROM:-0600
TZOFFSETTO:-0500
TZNAME:CDT
DTSTART:20220313T080000
END:DAYLIGHT
BEGIN:STANDARD
TZOFFSETFROM:-0500
TZOFFSETTO:-0600
TZNAME:CST
DTSTART:20221106T070000
END:STANDARD
BEGIN:DAYLIGHT
TZOFFSETFROM:-0600
TZOFFSETTO:-0500
TZNAME:CDT
DTSTART:20230312T080000
END:DAYLIGHT
BEGIN:STANDARD
TZOFFSETFROM:-0500
TZOFFSETTO:-0600
TZNAME:CST
DTSTART:20231105T070000
END:STANDARD
BEGIN:DAYLIGHT
TZOFFSETFROM:-0600
TZOFFSETTO:-0500
TZNAME:CDT
DTSTART:20240310T080000
END:DAYLIGHT
BEGIN:STANDARD
TZOFFSETFROM:-0500
TZOFFSETTO:-0600
TZNAME:CST
DTSTART:20241103T070000
END:STANDARD
END:VTIMEZONE
BEGIN:VEVENT
DTSTART;VALUE=DATE:20230901
DTEND;VALUE=DATE:20230902
DTSTAMP:20260422T055817
CREATED:20230801T175347Z
LAST-MODIFIED:20230824T152757Z
UID:6028-1693526400-1693612799@www.mcconnellafblibrary.com
SUMMARY:Library Closed-AMC Family Day
DESCRIPTION:
URL:https://www.mcconnellafblibrary.com/event/library-closed-amc-family-day/
CATEGORIES:Closed
ATTACH;FMTTYPE=image/png:https://www.mcconnellafblibrary.com/wp-content/uploads/2023/08/Family-Day-9-1.png
END:VEVENT
BEGIN:VEVENT
DTSTART;VALUE=DATE:20230904
DTEND;VALUE=DATE:20230905
DTSTAMP:20260422T055817
CREATED:20230801T175704Z
LAST-MODIFIED:20230824T152942Z
UID:6030-1693785600-1693871999@www.mcconnellafblibrary.com
SUMMARY:Library Closed-Labor Day
DESCRIPTION:
URL:https://www.mcconnellafblibrary.com/event/library-closed-labor-day/
CATEGORIES:Holiday
ATTACH;FMTTYPE=image/png:https://www.mcconnellafblibrary.com/wp-content/uploads/2023/08/Labor-Day-9-4.png
END:VEVENT
BEGIN:VEVENT
DTSTART;TZID=America/Chicago:20230905T100000
DTEND;TZID=America/Chicago:20230905T110000
DTSTAMP:20260422T055817
CREATED:20230801T182718Z
LAST-MODIFIED:20230824T160659Z
UID:6033-1693908000-1693911600@www.mcconnellafblibrary.com
SUMMARY:Story Time
DESCRIPTION:
URL:https://www.mcconnellafblibrary.com/event/story-time-51/
LOCATION:Library Sunflower Room\, Across the hall from the Library\, United States
CATEGORIES:Preschool
ATTACH;FMTTYPE=image/png:https://www.mcconnellafblibrary.com/wp-content/uploads/2023/08/PSST-9-5.png
END:VEVENT
BEGIN:VEVENT
DTSTART;TZID=America/Chicago:20230907T130000
DTEND;TZID=America/Chicago:20230907T143000
DTSTAMP:20260422T055817
CREATED:20230801T182932Z
LAST-MODIFIED:20230831T181657Z
UID:6037-1694091600-1694097000@www.mcconnellafblibrary.com
SUMMARY:Homeschool Hookup
DESCRIPTION:
URL:https://www.mcconnellafblibrary.com/event/homeschool-hookup-4/
CATEGORIES:School Age
ATTACH;FMTTYPE=image/png:https://www.mcconnellafblibrary.com/wp-content/uploads/2023/08/Homeschool-Hook-Up-1.png
END:VEVENT
BEGIN:VEVENT
DTSTART;VALUE=DATE:20230911
DTEND;VALUE=DATE:20230912
DTSTAMP:20260422T055817
CREATED:20230830T155917Z
LAST-MODIFIED:20230830T163608Z
UID:6154-1694390400-1694476799@www.mcconnellafblibrary.com
SUMMARY:Closed-Wing Training Day
DESCRIPTION:
URL:https://www.mcconnellafblibrary.com/event/closed-wing-training-day/
CATEGORIES:Closed
ATTACH;FMTTYPE=image/png:https://www.mcconnellafblibrary.com/wp-content/uploads/2023/08/Wing-Training-Day.png
END:VEVENT
BEGIN:VEVENT
DTSTART;TZID=America/Chicago:20230912T100000
DTEND;TZID=America/Chicago:20230912T110000
DTSTAMP:20260422T055817
CREATED:20230801T182848Z
LAST-MODIFIED:20230824T160811Z
UID:6035-1694512800-1694516400@www.mcconnellafblibrary.com
SUMMARY:Story Time
DESCRIPTION:
URL:https://www.mcconnellafblibrary.com/event/story-time-52/
LOCATION:Library Sunflower Room\, Across the hall from the Library\, United States
CATEGORIES:Preschool
ATTACH;FMTTYPE=image/png:https://www.mcconnellafblibrary.com/wp-content/uploads/2023/08/PSST-9-12.png
END:VEVENT
BEGIN:VEVENT
DTSTART;TZID=America/Chicago:20230913T163000
DTEND;TZID=America/Chicago:20230913T173000
DTSTAMP:20260422T055817
CREATED:20230801T183023Z
LAST-MODIFIED:20230824T161441Z
UID:6039-1694622600-1694626200@www.mcconnellafblibrary.com
SUMMARY:Kanza Kids
DESCRIPTION:
URL:https://www.mcconnellafblibrary.com/event/kanza-kids-26/
LOCATION:Youth Center\, McConnell AFB
CATEGORIES:School Age
ATTACH;FMTTYPE=image/png:https://www.mcconnellafblibrary.com/wp-content/uploads/2023/08/KK-9-13.png
END:VEVENT
BEGIN:VEVENT
DTSTART;TZID=America/Chicago:20230918T173000
DTEND;TZID=America/Chicago:20230918T183000
DTSTAMP:20260422T055817
CREATED:20230801T183159Z
LAST-MODIFIED:20230824T161600Z
UID:6043-1695058200-1695061800@www.mcconnellafblibrary.com
SUMMARY:As The Page Turns
DESCRIPTION:
URL:https://www.mcconnellafblibrary.com/event/as-the-page-turns-9/
LOCATION:Library Sunflower Room\, Across the hall from the Library\, United States
CATEGORIES:Adult
ATTACH;FMTTYPE=image/png:https://www.mcconnellafblibrary.com/wp-content/uploads/2023/08/ATPT-9-18.png
END:VEVENT
BEGIN:VEVENT
DTSTART;TZID=America/Chicago:20230918T190000
DTEND;TZID=America/Chicago:20230918T203000
DTSTAMP:20260422T055817
CREATED:20230801T183235Z
LAST-MODIFIED:20230824T161716Z
UID:6045-1695063600-1695069000@www.mcconnellafblibrary.com
SUMMARY:Craftaholics
DESCRIPTION:
URL:https://www.mcconnellafblibrary.com/event/craftaholics-13/
LOCATION:Library Sunflower Room\, Across the hall from the Library\, United States
CATEGORIES:Adult
ATTACH;FMTTYPE=image/png:https://www.mcconnellafblibrary.com/wp-content/uploads/2023/08/CA-9-18.png
END:VEVENT
BEGIN:VEVENT
DTSTART;TZID=America/Chicago:20230919T100000
DTEND;TZID=America/Chicago:20230919T110000
DTSTAMP:20260422T055817
CREATED:20230801T183353Z
LAST-MODIFIED:20230824T160930Z
UID:6047-1695117600-1695121200@www.mcconnellafblibrary.com
SUMMARY:Story Time
DESCRIPTION:
URL:https://www.mcconnellafblibrary.com/event/story-time-53/
LOCATION:Library Sunflower Room\, Across the hall from the Library\, United States
CATEGORIES:Preschool
ATTACH;FMTTYPE=image/png:https://www.mcconnellafblibrary.com/wp-content/uploads/2023/08/PSST-9-19.png
END:VEVENT
BEGIN:VEVENT
DTSTART;TZID=America/Chicago:20230922T173000
DTEND;TZID=America/Chicago:20230922T193000
DTSTAMP:20260422T055817
CREATED:20230801T183108Z
LAST-MODIFIED:20230824T161845Z
UID:6041-1695403800-1695411000@www.mcconnellafblibrary.com
SUMMARY:Dinner and a Movie
DESCRIPTION:
URL:https://www.mcconnellafblibrary.com/event/dinner-and-a-movie-2/
LOCATION:Youth Center\, McConnell AFB
CATEGORIES:Family
ATTACH;FMTTYPE=image/png:https://www.mcconnellafblibrary.com/wp-content/uploads/2023/08/Dinner-a-Movie-9-22.png
END:VEVENT
BEGIN:VEVENT
DTSTART;TZID=America/Chicago:20230926T100000
DTEND;TZID=America/Chicago:20230926T110000
DTSTAMP:20260422T055817
CREATED:20230801T183431Z
LAST-MODIFIED:20230824T161305Z
UID:6049-1695722400-1695726000@www.mcconnellafblibrary.com
SUMMARY:Story Time
DESCRIPTION:
URL:https://www.mcconnellafblibrary.com/event/story-time-54/
LOCATION:Library Sunflower Room\, Across the hall from the Library\, United States
CATEGORIES:Preschool
ATTACH;FMTTYPE=image/png:https://www.mcconnellafblibrary.com/wp-content/uploads/2023/08/PSST-9-26.png
END:VEVENT
BEGIN:VEVENT
DTSTART;TZID=America/Chicago:20230927T163000
DTEND;TZID=America/Chicago:20230927T173000
DTSTAMP:20260422T055817
CREATED:20230801T183515Z
LAST-MODIFIED:20230824T162054Z
UID:6051-1695832200-1695835800@www.mcconnellafblibrary.com
SUMMARY:STEM Club
DESCRIPTION:
URL:https://www.mcconnellafblibrary.com/event/stem-club-24/
LOCATION:Youth Center
CATEGORIES:School Age
ATTACH;FMTTYPE=image/png:https://www.mcconnellafblibrary.com/wp-content/uploads/2023/08/SC-9-27.png
END:VEVENT
END:VCALENDAR