BEGIN:VCALENDAR
VERSION:2.0
PRODID:-//McConnell AFB Library - ECPv6.15.20//NONSGML v1.0//EN
CALSCALE:GREGORIAN
METHOD:PUBLISH
X-ORIGINAL-URL:https://www.mcconnellafblibrary.com
X-WR-CALDESC:Events for McConnell AFB Library
REFRESH-INTERVAL;VALUE=DURATION:PT1H
X-Robots-Tag:noindex
X-PUBLISHED-TTL:PT1H
BEGIN:VTIMEZONE
TZID:America/Chicago
BEGIN:DAYLIGHT
TZOFFSETFROM:-0600
TZOFFSETTO:-0500
TZNAME:CDT
DTSTART:20220313T080000
END:DAYLIGHT
BEGIN:STANDARD
TZOFFSETFROM:-0500
TZOFFSETTO:-0600
TZNAME:CST
DTSTART:20221106T070000
END:STANDARD
BEGIN:DAYLIGHT
TZOFFSETFROM:-0600
TZOFFSETTO:-0500
TZNAME:CDT
DTSTART:20230312T080000
END:DAYLIGHT
BEGIN:STANDARD
TZOFFSETFROM:-0500
TZOFFSETTO:-0600
TZNAME:CST
DTSTART:20231105T070000
END:STANDARD
BEGIN:DAYLIGHT
TZOFFSETFROM:-0600
TZOFFSETTO:-0500
TZNAME:CDT
DTSTART:20240310T080000
END:DAYLIGHT
BEGIN:STANDARD
TZOFFSETFROM:-0500
TZOFFSETTO:-0600
TZNAME:CST
DTSTART:20241103T070000
END:STANDARD
END:VTIMEZONE
BEGIN:VEVENT
DTSTART;VALUE=DATE:20230703
DTEND;VALUE=DATE:20230704
DTSTAMP:20260421T202851
CREATED:20230510T204437Z
LAST-MODIFIED:20230510T204437Z
UID:5979-1688342400-1688428799@www.mcconnellafblibrary.com
SUMMARY:AMC FAMILY DAY- CLOSED
DESCRIPTION:
URL:https://www.mcconnellafblibrary.com/event/amc-family-day-closed-6/
LOCATION:BASE LIBRARY\, MCCONNELL AFB 
CATEGORIES:Closed
ATTACH;FMTTYPE=image/jpeg:https://www.mcconnellafblibrary.com/wp-content/uploads/2023/05/Family-Day-7-3-23-TVs.jpg
END:VEVENT
BEGIN:VEVENT
DTSTART;VALUE=DATE:20230704
DTEND;VALUE=DATE:20230705
DTSTAMP:20260421T202851
CREATED:20230510T204535Z
LAST-MODIFIED:20230510T204535Z
UID:5982-1688428800-1688515199@www.mcconnellafblibrary.com
SUMMARY:INDEPENDENCE DAY- CLOSED
DESCRIPTION:
URL:https://www.mcconnellafblibrary.com/event/independence-day-closed-2/
LOCATION:BASE LIBRARY\, MCCONNELL AFB 
CATEGORIES:Holiday
ATTACH;FMTTYPE=image/jpeg:https://www.mcconnellafblibrary.com/wp-content/uploads/2023/05/4th-of-July-TV.jpg
END:VEVENT
BEGIN:VEVENT
DTSTART;TZID=America/Chicago:20230705T100000
DTEND;TZID=America/Chicago:20230705T110000
DTSTAMP:20260421T202851
CREATED:20230510T204712Z
LAST-MODIFIED:20230510T204758Z
UID:5985-1688551200-1688554800@www.mcconnellafblibrary.com
SUMMARY:SUMMER LIBRARY FAMILY PROGRAM- Movie and Popcorn at the Library
DESCRIPTION:
URL:https://www.mcconnellafblibrary.com/event/summer-library-family-program-movie-and-popcorn-at-the-library/
LOCATION:Library Sunflower Room\, Across the hall from the Library\, United States
CATEGORIES:Family
ATTACH;FMTTYPE=image/jpeg:https://www.mcconnellafblibrary.com/wp-content/uploads/2023/05/Movie-and-Popcorn-TV.jpg
END:VEVENT
BEGIN:VEVENT
DTSTART;TZID=America/Chicago:20230710T140000
DTEND;TZID=America/Chicago:20230710T160000
DTSTAMP:20260421T202851
CREATED:20230510T204929Z
LAST-MODIFIED:20230510T204929Z
UID:5989-1688997600-1689004800@www.mcconnellafblibrary.com
SUMMARY:SUMMER LIBRARY FAMILY PROGRAM- See Your Voice!
DESCRIPTION:
URL:https://www.mcconnellafblibrary.com/event/summer-library-family-program-see-your-voice/
LOCATION:Youth Center\, McConnell AFB
CATEGORIES:Family
ATTACH;FMTTYPE=image/jpeg:https://www.mcconnellafblibrary.com/wp-content/uploads/2023/05/See-Your-Voice-TV.jpg
END:VEVENT
BEGIN:VEVENT
DTSTART;TZID=America/Chicago:20230712T100000
DTEND;TZID=America/Chicago:20230712T110000
DTSTAMP:20260421T202851
CREATED:20230510T205052Z
LAST-MODIFIED:20230510T205052Z
UID:5992-1689156000-1689159600@www.mcconnellafblibrary.com
SUMMARY:SUMMER LIBRARY FAMILY PROGRAM- Teddy Bear Clinic
DESCRIPTION:
URL:https://www.mcconnellafblibrary.com/event/summer-library-family-program-teddy-bear-clinic/
LOCATION:Bleckley Lounge
CATEGORIES:Family
ATTACH;FMTTYPE=image/jpeg:https://www.mcconnellafblibrary.com/wp-content/uploads/2023/05/Teddy-Bear-Clinic-TV.jpg
END:VEVENT
BEGIN:VEVENT
DTSTART;TZID=America/Chicago:20230714T180000
DTEND;TZID=America/Chicago:20230714T200000
DTSTAMP:20260421T202851
CREATED:20230510T205207Z
LAST-MODIFIED:20230510T205207Z
UID:5995-1689357600-1689364800@www.mcconnellafblibrary.com
SUMMARY:SUMMER LIBRARY ADULT PROGRAM- Food in a Jar!
DESCRIPTION:
URL:https://www.mcconnellafblibrary.com/event/summer-library-adult-program-food-in-a-jar/
LOCATION:Base Chapel
CATEGORIES:Adult
ATTACH;FMTTYPE=image/jpeg:https://www.mcconnellafblibrary.com/wp-content/uploads/2023/05/Food-in-a-Jar-TV.jpg
END:VEVENT
BEGIN:VEVENT
DTSTART;TZID=America/Chicago:20230717T130000
DTEND;TZID=America/Chicago:20230717T160000
DTSTAMP:20260421T202851
CREATED:20230510T205344Z
LAST-MODIFIED:20230721T201845Z
UID:5998-1689598800-1689609600@www.mcconnellafblibrary.com
SUMMARY:SUMMER LIBRARY FAMILY PROGRAM- Digital Planetarium Show
DESCRIPTION:
URL:https://www.mcconnellafblibrary.com/event/summer-library-family-program-digital-planetarium-show/
LOCATION:Youth Center\, McConnell AFB
CATEGORIES:Family
ATTACH;FMTTYPE=image/jpeg:https://www.mcconnellafblibrary.com/wp-content/uploads/2023/05/Digital-Planetarium-TV.jpg
END:VEVENT
BEGIN:VEVENT
DTSTART;TZID=America/Chicago:20230717T170000
DTEND;TZID=America/Chicago:20230717T183000
DTSTAMP:20260421T202851
CREATED:20230510T205513Z
LAST-MODIFIED:20230510T205610Z
UID:6001-1689613200-1689618600@www.mcconnellafblibrary.com
SUMMARY:SUMMER LIBRARY FAMILY PROGRAM- Digital Planetarium Show
DESCRIPTION:
URL:https://www.mcconnellafblibrary.com/event/summer-library-family-program-digital-planetarium-show-2/
LOCATION:Youth Center
CATEGORIES:Family
ATTACH;FMTTYPE=image/jpeg:https://www.mcconnellafblibrary.com/wp-content/uploads/2023/05/Digital-Planetarium-TV.jpg
END:VEVENT
BEGIN:VEVENT
DTSTART;TZID=America/Chicago:20230719T100000
DTEND;TZID=America/Chicago:20230719T110000
DTSTAMP:20260421T202851
CREATED:20230510T205740Z
LAST-MODIFIED:20230510T205740Z
UID:6003-1689760800-1689764400@www.mcconnellafblibrary.com
SUMMARY:SUMMER LIBRARY FAMILY PROGRAM- Field Day
DESCRIPTION:
URL:https://www.mcconnellafblibrary.com/event/summer-library-family-program-field-day/
LOCATION:BASE POOL PAVILION\, MCCONNELL AFB
CATEGORIES:Family
ATTACH;FMTTYPE=image/jpeg:https://www.mcconnellafblibrary.com/wp-content/uploads/2023/05/Field-Day-TV.jpg
END:VEVENT
BEGIN:VEVENT
DTSTART;TZID=America/Chicago:20230722T183000
DTEND;TZID=America/Chicago:20230722T203000
DTSTAMP:20260421T202851
CREATED:20230510T210226Z
LAST-MODIFIED:20230510T210226Z
UID:6006-1690050600-1690057800@www.mcconnellafblibrary.com
SUMMARY:SUMMER LIBRARY FAMILY PROGRAM- Pool Party!
DESCRIPTION:
URL:https://www.mcconnellafblibrary.com/event/summer-library-family-program-pool-party/
LOCATION:Wichita South YMCA\, 3405 S Meridian Ave.\, Wichita\, KS\, 67217\, United States
CATEGORIES:Family
ATTACH;FMTTYPE=image/jpeg:https://www.mcconnellafblibrary.com/wp-content/uploads/2023/05/Finale-TV.jpg
END:VEVENT
BEGIN:VEVENT
DTSTART;VALUE=DATE:20230728
DTEND;VALUE=DATE:20230729
DTSTAMP:20260421T202851
CREATED:20230510T210406Z
LAST-MODIFIED:20230510T210406Z
UID:6010-1690502400-1690588799@www.mcconnellafblibrary.com
SUMMARY:Last day to log Summer Library Program minutes!
DESCRIPTION:
URL:https://www.mcconnellafblibrary.com/event/last-day-to-log-summer-library-program-minutes/
LOCATION:BASE LIBRARY\, MCCONNELL AFB 
CATEGORIES:General
ATTACH;FMTTYPE=image/jpeg:https://www.mcconnellafblibrary.com/wp-content/uploads/2023/05/Last-Day-to-Log-Minutres.jpg
END:VEVENT
END:VCALENDAR