BEGIN:VCALENDAR
VERSION:2.0
PRODID:-//McConnell AFB Library - ECPv6.15.20//NONSGML v1.0//EN
CALSCALE:GREGORIAN
METHOD:PUBLISH
X-ORIGINAL-URL:https://www.mcconnellafblibrary.com
X-WR-CALDESC:Events for McConnell AFB Library
REFRESH-INTERVAL;VALUE=DURATION:PT1H
X-Robots-Tag:noindex
X-PUBLISHED-TTL:PT1H
BEGIN:VTIMEZONE
TZID:America/Chicago
BEGIN:DAYLIGHT
TZOFFSETFROM:-0600
TZOFFSETTO:-0500
TZNAME:CDT
DTSTART:20220313T080000
END:DAYLIGHT
BEGIN:STANDARD
TZOFFSETFROM:-0500
TZOFFSETTO:-0600
TZNAME:CST
DTSTART:20221106T070000
END:STANDARD
BEGIN:DAYLIGHT
TZOFFSETFROM:-0600
TZOFFSETTO:-0500
TZNAME:CDT
DTSTART:20230312T080000
END:DAYLIGHT
BEGIN:STANDARD
TZOFFSETFROM:-0500
TZOFFSETTO:-0600
TZNAME:CST
DTSTART:20231105T070000
END:STANDARD
BEGIN:DAYLIGHT
TZOFFSETFROM:-0600
TZOFFSETTO:-0500
TZNAME:CDT
DTSTART:20240310T080000
END:DAYLIGHT
BEGIN:STANDARD
TZOFFSETFROM:-0500
TZOFFSETTO:-0600
TZNAME:CST
DTSTART:20241103T070000
END:STANDARD
END:VTIMEZONE
BEGIN:VEVENT
DTSTART;TZID=America/Chicago:20230502T100000
DTEND;TZID=America/Chicago:20230502T110000
DTSTAMP:20260421T091328
CREATED:20230227T193834Z
LAST-MODIFIED:20230227T193834Z
UID:5881-1683021600-1683025200@www.mcconnellafblibrary.com
SUMMARY:Story Time
DESCRIPTION:
URL:https://www.mcconnellafblibrary.com/event/story-time-48/
LOCATION:Library Sunflower Room\, Across the hall from the Library\, United States
CATEGORIES:Preschool
ATTACH;FMTTYPE=image/png:https://www.mcconnellafblibrary.com/wp-content/uploads/2023/02/Story-Time-Squad-5-2-23.png
END:VEVENT
BEGIN:VEVENT
DTSTART;TZID=America/Chicago:20230503T163000
DTEND;TZID=America/Chicago:20230503T173000
DTSTAMP:20260421T091328
CREATED:20230227T194304Z
LAST-MODIFIED:20230227T194304Z
UID:5890-1683131400-1683135000@www.mcconnellafblibrary.com
SUMMARY:Kanza Kids
DESCRIPTION:
URL:https://www.mcconnellafblibrary.com/event/kanza-kids-25/
LOCATION:Youth Center\, McConnell AFB
CATEGORIES:School Age
ATTACH;FMTTYPE=image/png:https://www.mcconnellafblibrary.com/wp-content/uploads/2023/02/Kanza-Kids-May-FB.png
END:VEVENT
BEGIN:VEVENT
DTSTART;TZID=America/Chicago:20230509T100000
DTEND;TZID=America/Chicago:20230509T110000
DTSTAMP:20260421T091328
CREATED:20230227T193949Z
LAST-MODIFIED:20230227T193949Z
UID:5884-1683626400-1683630000@www.mcconnellafblibrary.com
SUMMARY:Story Time
DESCRIPTION:
URL:https://www.mcconnellafblibrary.com/event/story-time-49/
LOCATION:Library Sunflower Room\, Across the hall from the Library\, United States
CATEGORIES:Preschool
ATTACH;FMTTYPE=image/png:https://www.mcconnellafblibrary.com/wp-content/uploads/2023/02/Story-Time-Squad-5-9-23.png
END:VEVENT
BEGIN:VEVENT
DTSTART;TZID=America/Chicago:20230510T163000
DTEND;TZID=America/Chicago:20230510T173000
DTSTAMP:20260421T091328
CREATED:20230227T194436Z
LAST-MODIFIED:20230227T194436Z
UID:5893-1683736200-1683739800@www.mcconnellafblibrary.com
SUMMARY:STEM Club
DESCRIPTION:
URL:https://www.mcconnellafblibrary.com/event/stem-club-23/
LOCATION:Youth Center
CATEGORIES:School Age
ATTACH;FMTTYPE=image/png:https://www.mcconnellafblibrary.com/wp-content/uploads/2023/02/May-STEM-Club.png
END:VEVENT
BEGIN:VEVENT
DTSTART;TZID=America/Chicago:20230512T171500
DTEND;TZID=America/Chicago:20230512T191500
DTSTAMP:20260421T091328
CREATED:20230227T194618Z
LAST-MODIFIED:20230227T194618Z
UID:5896-1683911700-1683918900@www.mcconnellafblibrary.com
SUMMARY:Dinner and a Movie
DESCRIPTION:
URL:https://www.mcconnellafblibrary.com/event/dinner-and-a-movie/
LOCATION:Youth Center\, McConnell AFB
CATEGORIES:Family
ATTACH;FMTTYPE=image/png:https://www.mcconnellafblibrary.com/wp-content/uploads/2023/02/Dinner-a-Movie.png
END:VEVENT
BEGIN:VEVENT
DTSTART;TZID=America/Chicago:20230516T100000
DTEND;TZID=America/Chicago:20230516T110000
DTSTAMP:20260421T091328
CREATED:20230227T194139Z
LAST-MODIFIED:20230227T194139Z
UID:5887-1684231200-1684234800@www.mcconnellafblibrary.com
SUMMARY:Story Time
DESCRIPTION:
URL:https://www.mcconnellafblibrary.com/event/story-time-50/
LOCATION:Library Sunflower Room\, Across the hall from the Library\, United States
CATEGORIES:Preschool
ATTACH;FMTTYPE=image/png:https://www.mcconnellafblibrary.com/wp-content/uploads/2023/02/Story-Time-Squad-5-16-23.png
END:VEVENT
BEGIN:VEVENT
DTSTART;TZID=America/Chicago:20230518T130000
DTEND;TZID=America/Chicago:20230518T150000
DTSTAMP:20260421T091328
CREATED:20230227T194814Z
LAST-MODIFIED:20230227T194814Z
UID:5899-1684414800-1684422000@www.mcconnellafblibrary.com
SUMMARY:Homeschool Hook Up
DESCRIPTION:
URL:https://www.mcconnellafblibrary.com/event/homeschool-hook-up-9/
CATEGORIES:School Age
ATTACH;FMTTYPE=image/png:https://www.mcconnellafblibrary.com/wp-content/uploads/2023/02/May-Homeschooler-Hook-Up.png
END:VEVENT
BEGIN:VEVENT
DTSTART;TZID=America/Chicago:20230522T173000
DTEND;TZID=America/Chicago:20230522T183000
DTSTAMP:20260421T091328
CREATED:20230227T195018Z
LAST-MODIFIED:20230227T195018Z
UID:5902-1684776600-1684780200@www.mcconnellafblibrary.com
SUMMARY:As the Page Turns Adult Book Club
DESCRIPTION:
URL:https://www.mcconnellafblibrary.com/event/as-the-page-turns-adult-book-club-2/
LOCATION:Library Sunflower Room\, Across the hall from the Library\, United States
CATEGORIES:Adult
ATTACH;FMTTYPE=image/png:https://www.mcconnellafblibrary.com/wp-content/uploads/2023/02/May-ATPT.png
END:VEVENT
BEGIN:VEVENT
DTSTART;TZID=America/Chicago:20230522T190000
DTEND;TZID=America/Chicago:20230522T200000
DTSTAMP:20260421T091328
CREATED:20230227T195156Z
LAST-MODIFIED:20230227T195556Z
UID:5905-1684782000-1684785600@www.mcconnellafblibrary.com
SUMMARY:Craftaholics
DESCRIPTION:
URL:https://www.mcconnellafblibrary.com/event/craftaholics-12/
LOCATION:Library Sunflower Room\, Across the hall from the Library\, United States
CATEGORIES:Adult
ATTACH;FMTTYPE=image/png:https://www.mcconnellafblibrary.com/wp-content/uploads/2023/02/May-Craftaholics.png
END:VEVENT
BEGIN:VEVENT
DTSTART;VALUE=DATE:20230526
DTEND;VALUE=DATE:20230527
DTSTAMP:20260421T091328
CREATED:20230227T195353Z
LAST-MODIFIED:20230227T195353Z
UID:5908-1685059200-1685145599@www.mcconnellafblibrary.com
SUMMARY:AMC Family Day- Closed
DESCRIPTION:
URL:https://www.mcconnellafblibrary.com/event/amc-family-day-closed-4/
CATEGORIES:Closed
ATTACH;FMTTYPE=image/png:https://www.mcconnellafblibrary.com/wp-content/uploads/2023/02/May-Family-Day-5-26-23.png
END:VEVENT
BEGIN:VEVENT
DTSTART;VALUE=DATE:20230529
DTEND;VALUE=DATE:20230530
DTSTAMP:20260421T091328
CREATED:20230227T195500Z
LAST-MODIFIED:20230227T195500Z
UID:5911-1685318400-1685404799@www.mcconnellafblibrary.com
SUMMARY:Memorial Day- Closed
DESCRIPTION:
URL:https://www.mcconnellafblibrary.com/event/memorial-day-closed-2/
CATEGORIES:Holiday
ATTACH;FMTTYPE=image/png:https://www.mcconnellafblibrary.com/wp-content/uploads/2023/02/Memorial-Day.png
END:VEVENT
BEGIN:VEVENT
DTSTART;VALUE=DATE:20230530
DTEND;VALUE=DATE:20230531
DTSTAMP:20260421T091328
CREATED:20230510T202215Z
LAST-MODIFIED:20230510T202215Z
UID:5959-1685404800-1685491199@www.mcconnellafblibrary.com
SUMMARY:FIRST DAY TO REGISTER FOR THE SUMMER LIBRARY PROGRAM!
DESCRIPTION:
URL:https://www.mcconnellafblibrary.com/event/first-day-to-register-for-the-summer-library-program/
LOCATION:BASE LIBRARY\, MCCONNELL AFB 
CATEGORIES:General
END:VEVENT
BEGIN:VEVENT
DTSTART;TZID=America/Chicago:20230531T170000
DTEND;TZID=America/Chicago:20230531T200000
DTSTAMP:20260421T091328
CREATED:20230516T142551Z
LAST-MODIFIED:20230516T142938Z
UID:6018-1685552400-1685563200@www.mcconnellafblibrary.com
SUMMARY:SUMMER LIBRARY PROGRAM - KICK OFF CARNIVAL EVENT
DESCRIPTION:
URL:https://www.mcconnellafblibrary.com/event/summer-library-program-kick-off-event/
LOCATION:BASE POOL PAVILION\, MCCONNELL AFB
CATEGORIES:Family
ATTACH;FMTTYPE=image/jpeg:https://www.mcconnellafblibrary.com/wp-content/uploads/2023/05/Kick-Off-TV.jpg
END:VEVENT
END:VCALENDAR