BEGIN:VCALENDAR
VERSION:2.0
PRODID:-//McConnell AFB Library - ECPv6.15.20//NONSGML v1.0//EN
CALSCALE:GREGORIAN
METHOD:PUBLISH
X-ORIGINAL-URL:https://www.mcconnellafblibrary.com
X-WR-CALDESC:Events for McConnell AFB Library
REFRESH-INTERVAL;VALUE=DURATION:PT1H
X-Robots-Tag:noindex
X-PUBLISHED-TTL:PT1H
BEGIN:VTIMEZONE
TZID:America/Chicago
BEGIN:DAYLIGHT
TZOFFSETFROM:-0600
TZOFFSETTO:-0500
TZNAME:CDT
DTSTART:20220313T080000
END:DAYLIGHT
BEGIN:STANDARD
TZOFFSETFROM:-0500
TZOFFSETTO:-0600
TZNAME:CST
DTSTART:20221106T070000
END:STANDARD
BEGIN:DAYLIGHT
TZOFFSETFROM:-0600
TZOFFSETTO:-0500
TZNAME:CDT
DTSTART:20230312T080000
END:DAYLIGHT
BEGIN:STANDARD
TZOFFSETFROM:-0500
TZOFFSETTO:-0600
TZNAME:CST
DTSTART:20231105T070000
END:STANDARD
BEGIN:DAYLIGHT
TZOFFSETFROM:-0600
TZOFFSETTO:-0500
TZNAME:CDT
DTSTART:20240310T080000
END:DAYLIGHT
BEGIN:STANDARD
TZOFFSETFROM:-0500
TZOFFSETTO:-0600
TZNAME:CST
DTSTART:20241103T070000
END:STANDARD
END:VTIMEZONE
BEGIN:VEVENT
DTSTART;TZID=America/Chicago:20230301T163000
DTEND;TZID=America/Chicago:20230301T173000
DTSTAMP:20260421T184653
CREATED:20230202T212059Z
LAST-MODIFIED:20230202T212059Z
UID:5801-1677688200-1677691800@www.mcconnellafblibrary.com
SUMMARY:Kanza Kids
DESCRIPTION:
URL:https://www.mcconnellafblibrary.com/event/kanza-kids-23/
LOCATION:YOUTH CENTER\, MCCONNELL AFB
CATEGORIES:School Age
ATTACH;FMTTYPE=image/png:https://www.mcconnellafblibrary.com/wp-content/uploads/2023/02/March-Kanza-Kids.png
END:VEVENT
BEGIN:VEVENT
DTSTART;TZID=America/Chicago:20230307T100000
DTEND;TZID=America/Chicago:20230307T110000
DTSTAMP:20260421T184653
CREATED:20230202T212258Z
LAST-MODIFIED:20230202T212258Z
UID:5804-1678183200-1678186800@www.mcconnellafblibrary.com
SUMMARY:Story Time
DESCRIPTION:
URL:https://www.mcconnellafblibrary.com/event/story-time-41/
LOCATION:Library Sunflower Room\, Across the hall from the Library\, United States
CATEGORIES:Preschool
ATTACH;FMTTYPE=image/png:https://www.mcconnellafblibrary.com/wp-content/uploads/2023/02/Story-Time-Squad-3-7-23.png
END:VEVENT
BEGIN:VEVENT
DTSTART;TZID=America/Chicago:20230308T163000
DTEND;TZID=America/Chicago:20230308T173000
DTSTAMP:20260421T184653
CREATED:20230202T212417Z
LAST-MODIFIED:20230202T224330Z
UID:5807-1678293000-1678296600@www.mcconnellafblibrary.com
SUMMARY:STEM Club
DESCRIPTION:
URL:https://www.mcconnellafblibrary.com/event/stem-club-21/
LOCATION:Youth Center
CATEGORIES:School Age
ATTACH;FMTTYPE=image/png:https://www.mcconnellafblibrary.com/wp-content/uploads/2023/02/March-STEM-Club-1.png
END:VEVENT
BEGIN:VEVENT
DTSTART;TZID=America/Chicago:20230314T130000
DTEND;TZID=America/Chicago:20230314T150000
DTSTAMP:20260421T184653
CREATED:20230202T212657Z
LAST-MODIFIED:20230202T212657Z
UID:5811-1678798800-1678806000@www.mcconnellafblibrary.com
SUMMARY:Springtastic Staycation
DESCRIPTION:
URL:https://www.mcconnellafblibrary.com/event/springtastic-staycation/
LOCATION:Youth Center
CATEGORIES:Family
END:VEVENT
BEGIN:VEVENT
DTSTART;TZID=America/Chicago:20230317T130000
DTEND;TZID=America/Chicago:20230317T150000
DTSTAMP:20260421T184653
CREATED:20230202T212754Z
LAST-MODIFIED:20230202T212754Z
UID:5813-1679058000-1679065200@www.mcconnellafblibrary.com
SUMMARY:Springtastic Staycation
DESCRIPTION:
URL:https://www.mcconnellafblibrary.com/event/springtastic-staycation-2/
LOCATION:Youth Center
CATEGORIES:Family
END:VEVENT
BEGIN:VEVENT
DTSTART;TZID=America/Chicago:20230320T173000
DTEND;TZID=America/Chicago:20230320T183000
DTSTAMP:20260421T184653
CREATED:20230202T212936Z
LAST-MODIFIED:20230202T213146Z
UID:5815-1679333400-1679337000@www.mcconnellafblibrary.com
SUMMARY:As The Page Turns Book Club
DESCRIPTION:
URL:https://www.mcconnellafblibrary.com/event/as-the-page-turns-book-club-18/
LOCATION:Library Sunflower Room\, Across the hall from the Library\, United States
CATEGORIES:Adult
ATTACH;FMTTYPE=image/png:https://www.mcconnellafblibrary.com/wp-content/uploads/2023/02/March-ATPT.png
END:VEVENT
BEGIN:VEVENT
DTSTART;TZID=America/Chicago:20230320T190000
DTEND;TZID=America/Chicago:20230320T203000
DTSTAMP:20260421T184653
CREATED:20230202T213103Z
LAST-MODIFIED:20230202T213103Z
UID:5818-1679338800-1679344200@www.mcconnellafblibrary.com
SUMMARY:Craftaholics
DESCRIPTION:
URL:https://www.mcconnellafblibrary.com/event/craftaholics-10/
LOCATION:Library Sunflower Room\, Across the hall from the Library\, United States
CATEGORIES:Adult
ATTACH;FMTTYPE=image/png:https://www.mcconnellafblibrary.com/wp-content/uploads/2023/02/Craftaholics.png
END:VEVENT
BEGIN:VEVENT
DTSTART;TZID=America/Chicago:20230321T100000
DTEND;TZID=America/Chicago:20230321T110000
DTSTAMP:20260421T184653
CREATED:20230202T213326Z
LAST-MODIFIED:20230202T213326Z
UID:5821-1679392800-1679396400@www.mcconnellafblibrary.com
SUMMARY:Story Time
DESCRIPTION:
URL:https://www.mcconnellafblibrary.com/event/story-time-42/
LOCATION:Library Sunflower Room\, Across the hall from the Library\, United States
CATEGORIES:Preschool
ATTACH;FMTTYPE=image/png:https://www.mcconnellafblibrary.com/wp-content/uploads/2023/02/Story-Time-Squad-3-21-23.png
END:VEVENT
BEGIN:VEVENT
DTSTART;TZID=America/Chicago:20230323T130000
DTEND;TZID=America/Chicago:20230323T143000
DTSTAMP:20260421T184653
CREATED:20230202T213508Z
LAST-MODIFIED:20230202T213508Z
UID:5824-1679576400-1679581800@www.mcconnellafblibrary.com
SUMMARY:Homeschool Hook Up
DESCRIPTION:
URL:https://www.mcconnellafblibrary.com/event/homeschool-hook-up-8/
LOCATION:Great Plains Nature Center\, 6232 E. 29th Street North\, Wichita\, KS\, 67220
CATEGORIES:Family
ATTACH;FMTTYPE=image/png:https://www.mcconnellafblibrary.com/wp-content/uploads/2023/02/March-Homeschool-Hook-Up.png
END:VEVENT
BEGIN:VEVENT
DTSTART;TZID=America/Chicago:20230328T100000
DTEND;TZID=America/Chicago:20230328T110000
DTSTAMP:20260421T184653
CREATED:20230202T213701Z
LAST-MODIFIED:20230202T213701Z
UID:5827-1679997600-1680001200@www.mcconnellafblibrary.com
SUMMARY:Story Time
DESCRIPTION:
URL:https://www.mcconnellafblibrary.com/event/story-time-43/
LOCATION:Library Sunflower Room\, Across the hall from the Library\, United States
CATEGORIES:Preschool
ATTACH;FMTTYPE=image/png:https://www.mcconnellafblibrary.com/wp-content/uploads/2023/02/Story-Time-Squad-3-28-23.png
END:VEVENT
END:VCALENDAR