BEGIN:VCALENDAR
VERSION:2.0
PRODID:-//McConnell AFB Library - ECPv6.15.20//NONSGML v1.0//EN
CALSCALE:GREGORIAN
METHOD:PUBLISH
X-WR-CALNAME:McConnell AFB Library
X-ORIGINAL-URL:https://www.mcconnellafblibrary.com
X-WR-CALDESC:Events for McConnell AFB Library
REFRESH-INTERVAL;VALUE=DURATION:PT1H
X-Robots-Tag:noindex
X-PUBLISHED-TTL:PT1H
BEGIN:VTIMEZONE
TZID:America/Chicago
BEGIN:DAYLIGHT
TZOFFSETFROM:-0600
TZOFFSETTO:-0500
TZNAME:CDT
DTSTART:20220313T080000
END:DAYLIGHT
BEGIN:STANDARD
TZOFFSETFROM:-0500
TZOFFSETTO:-0600
TZNAME:CST
DTSTART:20221106T070000
END:STANDARD
BEGIN:DAYLIGHT
TZOFFSETFROM:-0600
TZOFFSETTO:-0500
TZNAME:CDT
DTSTART:20230312T080000
END:DAYLIGHT
BEGIN:STANDARD
TZOFFSETFROM:-0500
TZOFFSETTO:-0600
TZNAME:CST
DTSTART:20231105T070000
END:STANDARD
BEGIN:DAYLIGHT
TZOFFSETFROM:-0600
TZOFFSETTO:-0500
TZNAME:CDT
DTSTART:20240310T080000
END:DAYLIGHT
BEGIN:STANDARD
TZOFFSETFROM:-0500
TZOFFSETTO:-0600
TZNAME:CST
DTSTART:20241103T070000
END:STANDARD
END:VTIMEZONE
BEGIN:VEVENT
DTSTART;TZID=America/Chicago:20230201T163000
DTEND;TZID=America/Chicago:20230201T173000
DTSTAMP:20260421T171718
CREATED:20230105T215417Z
LAST-MODIFIED:20230105T215417Z
UID:5762-1675269000-1675272600@www.mcconnellafblibrary.com
SUMMARY:Kanza Kids
DESCRIPTION:
URL:https://www.mcconnellafblibrary.com/event/kanza-kids-22/
LOCATION:YOUTH CENTER\, MCCONNELL AFB
CATEGORIES:School Age
ATTACH;FMTTYPE=image/png:https://www.mcconnellafblibrary.com/wp-content/uploads/2023/01/February-Kanza-Kids.png
END:VEVENT
BEGIN:VEVENT
DTSTART;TZID=America/Chicago:20230207T100000
DTEND;TZID=America/Chicago:20230207T110000
DTSTAMP:20260421T171718
CREATED:20230105T221459Z
LAST-MODIFIED:20230105T221658Z
UID:5782-1675764000-1675767600@www.mcconnellafblibrary.com
SUMMARY:Story Time
DESCRIPTION:
URL:https://www.mcconnellafblibrary.com/event/story-time-39/
LOCATION:Library Sunflower Room\, Across the hall from the Library\, United States
CATEGORIES:Preschool
ATTACH;FMTTYPE=image/png:https://www.mcconnellafblibrary.com/wp-content/uploads/2023/01/PSST-2-7.png
END:VEVENT
BEGIN:VEVENT
DTSTART;TZID=America/Chicago:20230208T163000
DTEND;TZID=America/Chicago:20230208T173000
DTSTAMP:20260421T171718
CREATED:20230105T220352Z
LAST-MODIFIED:20230105T220352Z
UID:5771-1675873800-1675877400@www.mcconnellafblibrary.com
SUMMARY:STEM Club
DESCRIPTION:
URL:https://www.mcconnellafblibrary.com/event/stem-club-20/
LOCATION:Youth Center
CATEGORIES:School Age
ATTACH;FMTTYPE=image/png:https://www.mcconnellafblibrary.com/wp-content/uploads/2023/01/February-STEM.png
END:VEVENT
BEGIN:VEVENT
DTSTART;TZID=America/Chicago:20230214T100000
DTEND;TZID=America/Chicago:20230214T110000
DTSTAMP:20260421T171718
CREATED:20230105T222038Z
LAST-MODIFIED:20230105T222038Z
UID:5784-1676368800-1676372400@www.mcconnellafblibrary.com
SUMMARY:Story Time
DESCRIPTION:
URL:https://www.mcconnellafblibrary.com/event/story-time-40/
LOCATION:Library Sunflower Room\, Across the hall from the Library\, United States
CATEGORIES:Preschool
ATTACH;FMTTYPE=image/png:https://www.mcconnellafblibrary.com/wp-content/uploads/2023/01/PSST-2-14.png
END:VEVENT
BEGIN:VEVENT
DTSTART;VALUE=DATE:20230220
DTEND;VALUE=DATE:20230221
DTSTAMP:20260421T171718
CREATED:20230105T220459Z
LAST-MODIFIED:20230105T220459Z
UID:5774-1676851200-1676937599@www.mcconnellafblibrary.com
SUMMARY:Closed-Presidents' Day
DESCRIPTION:
URL:https://www.mcconnellafblibrary.com/event/closed-presidents-day/
CATEGORIES:Holiday
ATTACH;FMTTYPE=image/png:https://www.mcconnellafblibrary.com/wp-content/uploads/2023/01/Presidents-Day.png
END:VEVENT
BEGIN:VEVENT
DTSTART;TZID=America/Chicago:20230221T100000
DTEND;TZID=America/Chicago:20230221T110000
DTSTAMP:20260421T171718
CREATED:20230105T220921Z
LAST-MODIFIED:20230105T221020Z
UID:5780-1676973600-1676977200@www.mcconnellafblibrary.com
SUMMARY:Story Time
DESCRIPTION:
URL:https://www.mcconnellafblibrary.com/event/story-time-38/
LOCATION:Library Sunflower Room\, Across the hall from the Library\, United States
CATEGORIES:Preschool
ATTACH;FMTTYPE=image/png:https://www.mcconnellafblibrary.com/wp-content/uploads/2023/01/PSST-2-21.png
END:VEVENT
BEGIN:VEVENT
DTSTART;TZID=America/Chicago:20230227T173000
DTEND;TZID=America/Chicago:20230227T183000
DTSTAMP:20260421T171718
CREATED:20230105T220611Z
LAST-MODIFIED:20230105T220611Z
UID:5777-1677519000-1677522600@www.mcconnellafblibrary.com
SUMMARY:As The Page Turns Book Club
DESCRIPTION:
URL:https://www.mcconnellafblibrary.com/event/as-the-page-turns-book-club-17/
LOCATION:Library Sunflower Room\, Across the hall from the Library\, United States
CATEGORIES:Adult
ATTACH;FMTTYPE=image/png:https://www.mcconnellafblibrary.com/wp-content/uploads/2023/01/February-As-the-Page-Turns.png
END:VEVENT
BEGIN:VEVENT
DTSTART;TZID=America/Chicago:20230228T100000
DTEND;TZID=America/Chicago:20230228T110000
DTSTAMP:20260421T171718
CREATED:20230105T215726Z
LAST-MODIFIED:20230105T220212Z
UID:5765-1677578400-1677582000@www.mcconnellafblibrary.com
SUMMARY:Story Time
DESCRIPTION:
URL:https://www.mcconnellafblibrary.com/event/story-time-37/
LOCATION:Library Sunflower Room\, Across the hall from the Library\, United States
CATEGORIES:Preschool
ATTACH;FMTTYPE=image/png:https://www.mcconnellafblibrary.com/wp-content/uploads/2023/01/Dr.-Seuss-PSST.png
END:VEVENT
END:VCALENDAR