BEGIN:VCALENDAR
VERSION:2.0
PRODID:-//McConnell AFB Library - ECPv6.15.20//NONSGML v1.0//EN
CALSCALE:GREGORIAN
METHOD:PUBLISH
X-WR-CALNAME:McConnell AFB Library
X-ORIGINAL-URL:https://www.mcconnellafblibrary.com
X-WR-CALDESC:Events for McConnell AFB Library
REFRESH-INTERVAL;VALUE=DURATION:PT1H
X-Robots-Tag:noindex
X-PUBLISHED-TTL:PT1H
BEGIN:VTIMEZONE
TZID:America/Chicago
BEGIN:DAYLIGHT
TZOFFSETFROM:-0600
TZOFFSETTO:-0500
TZNAME:CDT
DTSTART:20220313T080000
END:DAYLIGHT
BEGIN:STANDARD
TZOFFSETFROM:-0500
TZOFFSETTO:-0600
TZNAME:CST
DTSTART:20221106T070000
END:STANDARD
BEGIN:DAYLIGHT
TZOFFSETFROM:-0600
TZOFFSETTO:-0500
TZNAME:CDT
DTSTART:20230312T080000
END:DAYLIGHT
BEGIN:STANDARD
TZOFFSETFROM:-0500
TZOFFSETTO:-0600
TZNAME:CST
DTSTART:20231105T070000
END:STANDARD
BEGIN:DAYLIGHT
TZOFFSETFROM:-0600
TZOFFSETTO:-0500
TZNAME:CDT
DTSTART:20240310T080000
END:DAYLIGHT
BEGIN:STANDARD
TZOFFSETFROM:-0500
TZOFFSETTO:-0600
TZNAME:CST
DTSTART:20241103T070000
END:STANDARD
END:VTIMEZONE
BEGIN:VEVENT
DTSTART;VALUE=DATE:20230101
DTEND;VALUE=DATE:20230103
DTSTAMP:20260421T185147
CREATED:20221207T172132Z
LAST-MODIFIED:20221207T172132Z
UID:5728-1672531200-1672703999@www.mcconnellafblibrary.com
SUMMARY:New Year's Holiday-Closed
DESCRIPTION:
URL:https://www.mcconnellafblibrary.com/event/new-years-holiday-closed/
CATEGORIES:Holiday
ATTACH;FMTTYPE=image/png:https://www.mcconnellafblibrary.com/wp-content/uploads/2022/12/New-Years.png
END:VEVENT
BEGIN:VEVENT
DTSTART;TZID=America/Chicago:20230110T100000
DTEND;TZID=America/Chicago:20230110T110000
DTSTAMP:20260421T185147
CREATED:20221207T172626Z
LAST-MODIFIED:20221207T173542Z
UID:5731-1673344800-1673348400@www.mcconnellafblibrary.com
SUMMARY:Story Time
DESCRIPTION:
URL:https://www.mcconnellafblibrary.com/event/story-time-31/
LOCATION:Library Sunflower Room\, Across the hall from the Library\, United States
CATEGORIES:Preschool
ATTACH;FMTTYPE=image/png:https://www.mcconnellafblibrary.com/wp-content/uploads/2022/12/PSST-January.png
END:VEVENT
BEGIN:VEVENT
DTSTART;TZID=America/Chicago:20230111T163000
DTEND;TZID=America/Chicago:20230111T173000
DTSTAMP:20260421T185147
CREATED:20221207T173106Z
LAST-MODIFIED:20221207T173106Z
UID:5733-1673454600-1673458200@www.mcconnellafblibrary.com
SUMMARY:Kanza Kids
DESCRIPTION:
URL:https://www.mcconnellafblibrary.com/event/kanza-kids-21/
LOCATION:YOUTH CENTER\, MCCONNELL AFB
CATEGORIES:School Age
ATTACH;FMTTYPE=image/png:https://www.mcconnellafblibrary.com/wp-content/uploads/2022/12/Kanza-Kids.png
END:VEVENT
BEGIN:VEVENT
DTSTART;VALUE=DATE:20230116
DTEND;VALUE=DATE:20230117
DTSTAMP:20260421T185147
CREATED:20221207T173353Z
LAST-MODIFIED:20221207T173353Z
UID:5736-1673827200-1673913599@www.mcconnellafblibrary.com
SUMMARY:Martin Luther King\, Jr. Day - Closed
DESCRIPTION:
URL:https://www.mcconnellafblibrary.com/event/martin-luther-king-jr-day-closed-2/
CATEGORIES:Holiday
ATTACH;FMTTYPE=image/png:https://www.mcconnellafblibrary.com/wp-content/uploads/2022/12/Martin-Luther-King-Day.png
END:VEVENT
BEGIN:VEVENT
DTSTART;TZID=America/Chicago:20230117T100000
DTEND;TZID=America/Chicago:20230117T110000
DTSTAMP:20260421T185147
CREATED:20221207T173517Z
LAST-MODIFIED:20221207T173517Z
UID:5739-1673949600-1673953200@www.mcconnellafblibrary.com
SUMMARY:Story Time
DESCRIPTION:
URL:https://www.mcconnellafblibrary.com/event/story-time-32/
LOCATION:Library Sunflower Room\, Across the hall from the Library\, United States
CATEGORIES:Preschool
ATTACH;FMTTYPE=image/png:https://www.mcconnellafblibrary.com/wp-content/uploads/2022/12/PSST-January.png
END:VEVENT
BEGIN:VEVENT
DTSTART;TZID=America/Chicago:20230117T114500
DTEND;TZID=America/Chicago:20230117T140000
DTSTAMP:20260421T185147
CREATED:20230110T163109Z
LAST-MODIFIED:20230110T163109Z
UID:5786-1673955900-1673964000@www.mcconnellafblibrary.com
SUMMARY:Closed for Training 1145-1400
DESCRIPTION:
URL:https://www.mcconnellafblibrary.com/event/closed-for-training-1145-1400/
LOCATION:BASE LIBRARY\, MCCONNELL AFB 
CATEGORIES:Closed
END:VEVENT
BEGIN:VEVENT
DTSTART;TZID=America/Chicago:20230118T163000
DTEND;TZID=America/Chicago:20230118T173000
DTSTAMP:20260421T185147
CREATED:20221207T173625Z
LAST-MODIFIED:20221207T174916Z
UID:5742-1674059400-1674063000@www.mcconnellafblibrary.com
SUMMARY:STEM Club
DESCRIPTION:
URL:https://www.mcconnellafblibrary.com/event/story-time-33/
LOCATION:Youth Center\, McConnell AFB
CATEGORIES:School Age
ATTACH;FMTTYPE=image/png:https://www.mcconnellafblibrary.com/wp-content/uploads/2022/12/STEM-Club.png
END:VEVENT
BEGIN:VEVENT
DTSTART;TZID=America/Chicago:20230120T171500
DTEND;TZID=America/Chicago:20230120T200000
DTSTAMP:20260421T185147
CREATED:20221207T175106Z
LAST-MODIFIED:20221207T175106Z
UID:5747-1674234900-1674244800@www.mcconnellafblibrary.com
SUMMARY:Library and Youth Center Dinner and a Movie
DESCRIPTION:
URL:https://www.mcconnellafblibrary.com/event/library-and-youth-center-dinner-and-a-movie/
LOCATION:Youth Center
CATEGORIES:Family
ATTACH;FMTTYPE=image/png:https://www.mcconnellafblibrary.com/wp-content/uploads/2022/12/Movie-Night.png
END:VEVENT
BEGIN:VEVENT
DTSTART;TZID=America/Chicago:20230123T114500
DTEND;TZID=America/Chicago:20230123T140000
DTSTAMP:20260421T185147
CREATED:20230110T163302Z
LAST-MODIFIED:20230110T163302Z
UID:5788-1674474300-1674482400@www.mcconnellafblibrary.com
SUMMARY:Closed for Training 1145-1400
DESCRIPTION:
URL:https://www.mcconnellafblibrary.com/event/closed-for-training-1145-1400-2/
LOCATION:BASE LIBRARY\, MCCONNELL AFB 
CATEGORIES:Closed
END:VEVENT
BEGIN:VEVENT
DTSTART;TZID=America/Chicago:20230124T080000
DTEND;TZID=America/Chicago:20230124T170000
DTSTAMP:20260421T185147
CREATED:20221207T195641Z
LAST-MODIFIED:20221207T195641Z
UID:5758-1674547200-1674579600@www.mcconnellafblibrary.com
SUMMARY:Story Time
DESCRIPTION:
URL:https://www.mcconnellafblibrary.com/event/story-time-35/
LOCATION:Library Sunflower Room\, Across the hall from the Library\, United States
CATEGORIES:Preschool
ATTACH;FMTTYPE=image/png:https://www.mcconnellafblibrary.com/wp-content/uploads/2022/12/PSST-January.png
END:VEVENT
BEGIN:VEVENT
DTSTART;TZID=America/Chicago:20230127T173000
DTEND;TZID=America/Chicago:20230127T183000
DTSTAMP:20260421T185147
CREATED:20221207T175852Z
LAST-MODIFIED:20221207T175950Z
UID:5755-1674840600-1674844200@www.mcconnellafblibrary.com
SUMMARY:As The Page Turns Book Club
DESCRIPTION:
URL:https://www.mcconnellafblibrary.com/event/story-time-34/
LOCATION:Library Sunflower Room\, Across the hall from the Library\, United States
CATEGORIES:Adult
ATTACH;FMTTYPE=image/png:https://www.mcconnellafblibrary.com/wp-content/uploads/2022/12/ATPT-January.png
END:VEVENT
BEGIN:VEVENT
DTSTART;TZID=America/Chicago:20230127T190000
DTEND;TZID=America/Chicago:20230127T200000
DTSTAMP:20260421T185147
CREATED:20221207T175353Z
LAST-MODIFIED:20221207T175442Z
UID:5750-1674846000-1674849600@www.mcconnellafblibrary.com
SUMMARY:Craftaholics
DESCRIPTION:
URL:https://www.mcconnellafblibrary.com/event/as-the-page-turns-book-club-16/
LOCATION:Library Sunflower Room\, Across the hall from the Library\, United States
CATEGORIES:Adult
ATTACH;FMTTYPE=image/png:https://www.mcconnellafblibrary.com/wp-content/uploads/2022/12/Craftaholics.png
END:VEVENT
BEGIN:VEVENT
DTSTART;TZID=America/Chicago:20230131T100000
DTEND;TZID=America/Chicago:20230131T110000
DTSTAMP:20260421T185147
CREATED:20221207T195726Z
LAST-MODIFIED:20221207T195726Z
UID:5760-1675159200-1675162800@www.mcconnellafblibrary.com
SUMMARY:Story Time
DESCRIPTION:
URL:https://www.mcconnellafblibrary.com/event/story-time-36/
LOCATION:Library Sunflower Room\, Across the hall from the Library\, United States
CATEGORIES:Preschool
ATTACH;FMTTYPE=image/png:https://www.mcconnellafblibrary.com/wp-content/uploads/2022/12/PSST-January.png
END:VEVENT
END:VCALENDAR