BEGIN:VCALENDAR
VERSION:2.0
PRODID:-//McConnell AFB Library - ECPv6.15.20//NONSGML v1.0//EN
CALSCALE:GREGORIAN
METHOD:PUBLISH
X-ORIGINAL-URL:https://www.mcconnellafblibrary.com
X-WR-CALDESC:Events for McConnell AFB Library
REFRESH-INTERVAL;VALUE=DURATION:PT1H
X-Robots-Tag:noindex
X-PUBLISHED-TTL:PT1H
BEGIN:VTIMEZONE
TZID:America/Chicago
BEGIN:DAYLIGHT
TZOFFSETFROM:-0600
TZOFFSETTO:-0500
TZNAME:CDT
DTSTART:20210314T080000
END:DAYLIGHT
BEGIN:STANDARD
TZOFFSETFROM:-0500
TZOFFSETTO:-0600
TZNAME:CST
DTSTART:20211107T070000
END:STANDARD
BEGIN:DAYLIGHT
TZOFFSETFROM:-0600
TZOFFSETTO:-0500
TZNAME:CDT
DTSTART:20220313T080000
END:DAYLIGHT
BEGIN:STANDARD
TZOFFSETFROM:-0500
TZOFFSETTO:-0600
TZNAME:CST
DTSTART:20221106T070000
END:STANDARD
BEGIN:DAYLIGHT
TZOFFSETFROM:-0600
TZOFFSETTO:-0500
TZNAME:CDT
DTSTART:20230312T080000
END:DAYLIGHT
BEGIN:STANDARD
TZOFFSETFROM:-0500
TZOFFSETTO:-0600
TZNAME:CST
DTSTART:20231105T070000
END:STANDARD
END:VTIMEZONE
BEGIN:VEVENT
DTSTART;TZID=America/Chicago:20221206T100000
DTEND;TZID=America/Chicago:20221206T110000
DTSTAMP:20260425T064802
CREATED:20221019T202541Z
LAST-MODIFIED:20221019T202541Z
UID:5680-1670320800-1670324400@www.mcconnellafblibrary.com
SUMMARY:Story Time
DESCRIPTION:
URL:https://www.mcconnellafblibrary.com/event/story-time-29/
LOCATION:Library Sunflower Room\, Across the hall from the Library\, United States
CATEGORIES:Preschool
ATTACH;FMTTYPE=image/png:https://www.mcconnellafblibrary.com/wp-content/uploads/2022/10/December-Story-Time-Squad.png
END:VEVENT
BEGIN:VEVENT
DTSTART;TZID=America/Chicago:20221207T163000
DTEND;TZID=America/Chicago:20221207T173000
DTSTAMP:20260425T064802
CREATED:20221019T202945Z
LAST-MODIFIED:20221019T202945Z
UID:5686-1670430600-1670434200@www.mcconnellafblibrary.com
SUMMARY:Kanza Kids
DESCRIPTION:
URL:https://www.mcconnellafblibrary.com/event/kanza-kids-20/
LOCATION:Youth Center\, McConnell AFB
CATEGORIES:School Age
ATTACH;FMTTYPE=image/png:https://www.mcconnellafblibrary.com/wp-content/uploads/2022/10/December-Kanza-Kids.png
END:VEVENT
BEGIN:VEVENT
DTSTART;TZID=America/Chicago:20221213T100000
DTEND;TZID=America/Chicago:20221213T110000
DTSTAMP:20260425T064802
CREATED:20221019T202739Z
LAST-MODIFIED:20221019T202739Z
UID:5683-1670925600-1670929200@www.mcconnellafblibrary.com
SUMMARY:Story Time
DESCRIPTION:
URL:https://www.mcconnellafblibrary.com/event/story-time-30/
LOCATION:Library Sunflower Room\, Across the hall from the Library\, United States
CATEGORIES:Preschool
ATTACH;FMTTYPE=image/png:https://www.mcconnellafblibrary.com/wp-content/uploads/2022/10/December-Story-Time-Squad-1.png
END:VEVENT
BEGIN:VEVENT
DTSTART;TZID=America/Chicago:20221214T163000
DTEND;TZID=America/Chicago:20221214T173000
DTSTAMP:20260425T064802
CREATED:20221019T203109Z
LAST-MODIFIED:20221019T203109Z
UID:5689-1671035400-1671039000@www.mcconnellafblibrary.com
SUMMARY:STEM Club
DESCRIPTION:
URL:https://www.mcconnellafblibrary.com/event/stem-club-19/
LOCATION:Youth Center\, McConnell AFB
CATEGORIES:School Age
ATTACH;FMTTYPE=image/png:https://www.mcconnellafblibrary.com/wp-content/uploads/2022/10/December-STEM.png
END:VEVENT
BEGIN:VEVENT
DTSTART;TZID=America/Chicago:20221216T173000
DTEND;TZID=America/Chicago:20221216T183000
DTSTAMP:20260425T064802
CREATED:20221019T203304Z
LAST-MODIFIED:20221019T203304Z
UID:5692-1671211800-1671215400@www.mcconnellafblibrary.com
SUMMARY:As The Page Turns
DESCRIPTION:
URL:https://www.mcconnellafblibrary.com/event/as-the-page-turns-8/
LOCATION:Library Sunflower Room\, Across the hall from the Library\, United States
CATEGORIES:Adult
ATTACH;FMTTYPE=image/png:https://www.mcconnellafblibrary.com/wp-content/uploads/2022/10/As-the-Page-Turns.png
END:VEVENT
BEGIN:VEVENT
DTSTART;TZID=America/Chicago:20221220T100000
DTEND;TZID=America/Chicago:20221220T120000
DTSTAMP:20260425T064802
CREATED:20221019T203447Z
LAST-MODIFIED:20221019T203447Z
UID:5695-1671530400-1671537600@www.mcconnellafblibrary.com
SUMMARY:Winter Break Escape
DESCRIPTION:
URL:https://www.mcconnellafblibrary.com/event/winter-break-escape-7/
LOCATION:Library Sunflower Room\, Across the hall from the Library\, United States
CATEGORIES:Family
ATTACH;FMTTYPE=image/png:https://www.mcconnellafblibrary.com/wp-content/uploads/2022/10/Winter-Break-Escape.png
END:VEVENT
BEGIN:VEVENT
DTSTART;VALUE=DATE:20221223
DTEND;VALUE=DATE:20221224
DTSTAMP:20260425T064802
CREATED:20221019T203734Z
LAST-MODIFIED:20221019T210842Z
UID:5701-1671753600-1671839999@www.mcconnellafblibrary.com
SUMMARY:AMC Family Day
DESCRIPTION:
URL:https://www.mcconnellafblibrary.com/event/amc-family-day-4/
CATEGORIES:Closed
ATTACH;FMTTYPE=image/png:https://www.mcconnellafblibrary.com/wp-content/uploads/2022/10/AMC-Family-Day.png
END:VEVENT
BEGIN:VEVENT
DTSTART;VALUE=DATE:20221226
DTEND;VALUE=DATE:20221227
DTSTAMP:20260425T064802
CREATED:20221019T203815Z
LAST-MODIFIED:20221019T211426Z
UID:5703-1672012800-1672099199@www.mcconnellafblibrary.com
SUMMARY:Christmas Holiday
DESCRIPTION:
URL:https://www.mcconnellafblibrary.com/event/amc-family-day-5/
CATEGORIES:Holiday
ATTACH;FMTTYPE=image/png:https://www.mcconnellafblibrary.com/wp-content/uploads/2022/10/Chrismas-Holiday-1.png
END:VEVENT
BEGIN:VEVENT
DTSTART;TZID=America/Chicago:20221228T130000
DTEND;TZID=America/Chicago:20221228T150000
DTSTAMP:20260425T064802
CREATED:20221019T203558Z
LAST-MODIFIED:20221019T203558Z
UID:5698-1672232400-1672239600@www.mcconnellafblibrary.com
SUMMARY:Winter Break Escape
DESCRIPTION:
URL:https://www.mcconnellafblibrary.com/event/winter-break-escape-8/
LOCATION:Library Sunflower Room\, Across the hall from the Library\, United States
CATEGORIES:Family
ATTACH;FMTTYPE=image/png:https://www.mcconnellafblibrary.com/wp-content/uploads/2022/10/Winter-Break-Escape.png
END:VEVENT
BEGIN:VEVENT
DTSTART;VALUE=DATE:20221230
DTEND;VALUE=DATE:20221231
DTSTAMP:20260425T064802
CREATED:20221019T210954Z
LAST-MODIFIED:20221019T210954Z
UID:5709-1672358400-1672444799@www.mcconnellafblibrary.com
SUMMARY:AMC Family Day
DESCRIPTION:
URL:https://www.mcconnellafblibrary.com/event/amc-family-day-6/
CATEGORIES:Closed
ATTACH;FMTTYPE=image/png:https://www.mcconnellafblibrary.com/wp-content/uploads/2022/10/AMC-Family-Day-New-Years.png
END:VEVENT
END:VCALENDAR