BEGIN:VCALENDAR
VERSION:2.0
PRODID:-//McConnell AFB Library - ECPv6.15.20//NONSGML v1.0//EN
CALSCALE:GREGORIAN
METHOD:PUBLISH
X-WR-CALNAME:McConnell AFB Library
X-ORIGINAL-URL:https://www.mcconnellafblibrary.com
X-WR-CALDESC:Events for McConnell AFB Library
REFRESH-INTERVAL;VALUE=DURATION:PT1H
X-Robots-Tag:noindex
X-PUBLISHED-TTL:PT1H
BEGIN:VTIMEZONE
TZID:America/Chicago
BEGIN:DAYLIGHT
TZOFFSETFROM:-0600
TZOFFSETTO:-0500
TZNAME:CDT
DTSTART:20190310T080000
END:DAYLIGHT
BEGIN:STANDARD
TZOFFSETFROM:-0500
TZOFFSETTO:-0600
TZNAME:CST
DTSTART:20191103T070000
END:STANDARD
BEGIN:DAYLIGHT
TZOFFSETFROM:-0600
TZOFFSETTO:-0500
TZNAME:CDT
DTSTART:20200308T080000
END:DAYLIGHT
BEGIN:STANDARD
TZOFFSETFROM:-0500
TZOFFSETTO:-0600
TZNAME:CST
DTSTART:20201101T070000
END:STANDARD
BEGIN:DAYLIGHT
TZOFFSETFROM:-0600
TZOFFSETTO:-0500
TZNAME:CDT
DTSTART:20210314T080000
END:DAYLIGHT
BEGIN:STANDARD
TZOFFSETFROM:-0500
TZOFFSETTO:-0600
TZNAME:CST
DTSTART:20211107T070000
END:STANDARD
END:VTIMEZONE
BEGIN:VEVENT
DTSTART;TZID=America/Chicago:20200701T100000
DTEND;TZID=America/Chicago:20200701T110000
DTSTAMP:20260422T053620
CREATED:20200603T175938Z
LAST-MODIFIED:20200623T145101Z
UID:4157-1593597600-1593601200@www.mcconnellafblibrary.com
SUMMARY:Teen Quests: Stacking Cups Challenge
DESCRIPTION:Virtual program via Facebook \n 
URL:https://www.mcconnellafblibrary.com/event/teens-stacking-cups-challenge/
LOCATION:Library Facebook Page
CATEGORIES:Teen
END:VEVENT
BEGIN:VEVENT
DTSTART;TZID=America/Chicago:20200708T100000
DTEND;TZID=America/Chicago:20200708T110000
DTSTAMP:20260422T053620
CREATED:20200603T180416Z
LAST-MODIFIED:20200701T175837Z
UID:4167-1594202400-1594206000@www.mcconnellafblibrary.com
SUMMARY:Teen Quests: Mimic Me Pictures
DESCRIPTION:
URL:https://www.mcconnellafblibrary.com/event/teens-mimic-me-pictures/
LOCATION:Library Facebook Page
CATEGORIES:Teen
END:VEVENT
BEGIN:VEVENT
DTSTART;TZID=America/Chicago:20200715T100000
DTEND;TZID=America/Chicago:20200715T110000
DTSTAMP:20260422T053620
CREATED:20200603T181734Z
LAST-MODIFIED:20200701T180348Z
UID:4177-1594807200-1594810800@www.mcconnellafblibrary.com
SUMMARY:Teen Quests: Cloud Lights
DESCRIPTION:
URL:https://www.mcconnellafblibrary.com/event/teens-cloud-lights/
LOCATION:Library Facebook Page
CATEGORIES:Teen
END:VEVENT
BEGIN:VEVENT
DTSTART;TZID=America/Chicago:20200722T100000
DTEND;TZID=America/Chicago:20200722T110000
DTSTAMP:20260422T053620
CREATED:20200603T182113Z
LAST-MODIFIED:20200720T174042Z
UID:4187-1595412000-1595415600@www.mcconnellafblibrary.com
SUMMARY:Teen Quests: Shrinky Dinks
DESCRIPTION:Virtual program via Facebook
URL:https://www.mcconnellafblibrary.com/event/teens-shrinky-dinks/
LOCATION:Library Facebook Page
CATEGORIES:Teen
END:VEVENT
BEGIN:VEVENT
DTSTART;TZID=America/Chicago:20200729T100000
DTEND;TZID=America/Chicago:20200729T110000
DTSTAMP:20260422T053620
CREATED:20200603T182635Z
LAST-MODIFIED:20200623T145615Z
UID:4197-1596016800-1596020400@www.mcconnellafblibrary.com
SUMMARY:Teen Quests: Hopscotch Challenge
DESCRIPTION:Virtual program via Facebook
URL:https://www.mcconnellafblibrary.com/event/teens-hopscotch-challenge/
LOCATION:Library Facebook Page
CATEGORIES:Teen
END:VEVENT
END:VCALENDAR