BEGIN:VCALENDAR
VERSION:2.0
PRODID:-//McConnell AFB Library - ECPv6.15.20//NONSGML v1.0//EN
CALSCALE:GREGORIAN
METHOD:PUBLISH
X-ORIGINAL-URL:https://www.mcconnellafblibrary.com
X-WR-CALDESC:Events for McConnell AFB Library
REFRESH-INTERVAL;VALUE=DURATION:PT1H
X-Robots-Tag:noindex
X-PUBLISHED-TTL:PT1H
BEGIN:VTIMEZONE
TZID:America/Chicago
BEGIN:DAYLIGHT
TZOFFSETFROM:-0600
TZOFFSETTO:-0500
TZNAME:CDT
DTSTART:20200308T080000
END:DAYLIGHT
BEGIN:STANDARD
TZOFFSETFROM:-0500
TZOFFSETTO:-0600
TZNAME:CST
DTSTART:20201101T070000
END:STANDARD
BEGIN:DAYLIGHT
TZOFFSETFROM:-0600
TZOFFSETTO:-0500
TZNAME:CDT
DTSTART:20210314T080000
END:DAYLIGHT
BEGIN:STANDARD
TZOFFSETFROM:-0500
TZOFFSETTO:-0600
TZNAME:CST
DTSTART:20211107T070000
END:STANDARD
BEGIN:DAYLIGHT
TZOFFSETFROM:-0600
TZOFFSETTO:-0500
TZNAME:CDT
DTSTART:20220313T080000
END:DAYLIGHT
BEGIN:STANDARD
TZOFFSETFROM:-0500
TZOFFSETTO:-0600
TZNAME:CST
DTSTART:20221106T070000
END:STANDARD
END:VTIMEZONE
BEGIN:VEVENT
DTSTART;TZID=America/Chicago:20210212T180000
DTEND;TZID=America/Chicago:20210212T190000
DTSTAMP:20260425T145016
CREATED:20210111T171422Z
LAST-MODIFIED:20210204T181050Z
UID:4568-1613152800-1613156400@www.mcconnellafblibrary.com
SUMMARY:Craftaholics\, Anonymous: Book Shelf Diorama
DESCRIPTION:
URL:https://www.mcconnellafblibrary.com/event/craftaholics-anonymous-book-shelf-diorama/
LOCATION:Library Facebook Page
CATEGORIES:Adult
ATTACH;FMTTYPE=image/jpeg:https://www.mcconnellafblibrary.com/wp-content/uploads/2021/01/CA-Feb-TV.jpg
END:VEVENT
BEGIN:VEVENT
DTSTART;TZID=America/Chicago:20210222T190000
DTEND;TZID=America/Chicago:20210222T200000
DTSTAMP:20260425T145016
CREATED:20210111T172716Z
LAST-MODIFIED:20210111T173131Z
UID:4585-1614020400-1614024000@www.mcconnellafblibrary.com
SUMMARY:As the Page Turns: The Five
DESCRIPTION:
URL:https://www.mcconnellafblibrary.com/event/as-the-page-turns-the-five/
LOCATION:ZOOM meeting
CATEGORIES:Adult
ATTACH;FMTTYPE=image/jpeg:https://www.mcconnellafblibrary.com/wp-content/uploads/2021/01/ATPT-Feb-TV.jpg
END:VEVENT
END:VCALENDAR