BEGIN:VCALENDAR
VERSION:2.0
PRODID:-//McConnell AFB Library - ECPv6.15.20//NONSGML v1.0//EN
CALSCALE:GREGORIAN
METHOD:PUBLISH
X-WR-CALNAME:McConnell AFB Library
X-ORIGINAL-URL:https://www.mcconnellafblibrary.com
X-WR-CALDESC:Events for McConnell AFB Library
REFRESH-INTERVAL;VALUE=DURATION:PT1H
X-Robots-Tag:noindex
X-PUBLISHED-TTL:PT1H
BEGIN:VTIMEZONE
TZID:America/Chicago
BEGIN:DAYLIGHT
TZOFFSETFROM:-0600
TZOFFSETTO:-0500
TZNAME:CDT
DTSTART:20190310T080000
END:DAYLIGHT
BEGIN:STANDARD
TZOFFSETFROM:-0500
TZOFFSETTO:-0600
TZNAME:CST
DTSTART:20191103T070000
END:STANDARD
BEGIN:DAYLIGHT
TZOFFSETFROM:-0600
TZOFFSETTO:-0500
TZNAME:CDT
DTSTART:20200308T080000
END:DAYLIGHT
BEGIN:STANDARD
TZOFFSETFROM:-0500
TZOFFSETTO:-0600
TZNAME:CST
DTSTART:20201101T070000
END:STANDARD
BEGIN:DAYLIGHT
TZOFFSETFROM:-0600
TZOFFSETTO:-0500
TZNAME:CDT
DTSTART:20210314T080000
END:DAYLIGHT
BEGIN:STANDARD
TZOFFSETFROM:-0500
TZOFFSETTO:-0600
TZNAME:CST
DTSTART:20211107T070000
END:STANDARD
END:VTIMEZONE
BEGIN:VEVENT
DTSTART;TZID=America/Chicago:20200507T100000
DTEND;TZID=America/Chicago:20200507T110000
DTSTAMP:20260422T053627
CREATED:20200424T165437Z
LAST-MODIFIED:20200502T162956Z
UID:4085-1588845600-1588849200@www.mcconnellafblibrary.com
SUMMARY:Adult Thursdays- Free Concerts
DESCRIPTION:
URL:https://www.mcconnellafblibrary.com/event/adult-thursdays-free-concerts/
LOCATION:Library Facebook Page
CATEGORIES:Adult
ATTACH;FMTTYPE=image/png:https://www.mcconnellafblibrary.com/wp-content/uploads/2020/04/476BB849-C1EF-48F1-8CA3-F7CBDEAB8AD2.png
END:VEVENT
BEGIN:VEVENT
DTSTART;TZID=America/Chicago:20200514T100000
DTEND;TZID=America/Chicago:20200514T110000
DTSTAMP:20260422T053627
CREATED:20200508T153230Z
LAST-MODIFIED:20200508T153230Z
UID:4098-1589450400-1589454000@www.mcconnellafblibrary.com
SUMMARY:Adult Thursdays- Ball Chain Painting
DESCRIPTION:
URL:https://www.mcconnellafblibrary.com/event/adult-thursdays-ball-chain-painting/
LOCATION:Library Facebook Page
CATEGORIES:Adult
ATTACH;FMTTYPE=image/jpeg:https://www.mcconnellafblibrary.com/wp-content/uploads/2020/05/This-weeks-5-11-5-15.jpg
END:VEVENT
BEGIN:VEVENT
DTSTART;TZID=America/Chicago:20200521T100000
DTEND;TZID=America/Chicago:20200521T110000
DTSTAMP:20260422T053627
CREATED:20200508T154938Z
LAST-MODIFIED:20200508T154938Z
UID:4109-1590055200-1590058800@www.mcconnellafblibrary.com
SUMMARY:Adult Thursdays- Optical Illusions
DESCRIPTION:
URL:https://www.mcconnellafblibrary.com/event/adult-thursdays-optical-illusions/
LOCATION:Library Facebook Page
CATEGORIES:Adult
ATTACH;FMTTYPE=image/jpeg:https://www.mcconnellafblibrary.com/wp-content/uploads/2020/05/This-weeks-Virtual-Programs-May-18-May-22.jpg
END:VEVENT
BEGIN:VEVENT
DTSTART;TZID=America/Chicago:20200528T100000
DTEND;TZID=America/Chicago:20200528T110000
DTSTAMP:20260422T053627
CREATED:20200508T155929Z
LAST-MODIFIED:20200508T155929Z
UID:4120-1590660000-1590663600@www.mcconnellafblibrary.com
SUMMARY:Adult Thursday- Copycat Recipes
DESCRIPTION:
URL:https://www.mcconnellafblibrary.com/event/adult-thursday-copycat-recipes/
LOCATION:Library Facebook Page
CATEGORIES:Adult
ATTACH;FMTTYPE=image/jpeg:https://www.mcconnellafblibrary.com/wp-content/uploads/2020/05/This-weeks-Virtual-Programs-May-25-May-29.jpg
END:VEVENT
END:VCALENDAR