BEGIN:VCALENDAR
VERSION:2.0
PRODID:-//McConnell AFB Library - ECPv6.15.20//NONSGML v1.0//EN
CALSCALE:GREGORIAN
METHOD:PUBLISH
X-WR-CALNAME:McConnell AFB Library
X-ORIGINAL-URL:https://www.mcconnellafblibrary.com
X-WR-CALDESC:Events for McConnell AFB Library
REFRESH-INTERVAL;VALUE=DURATION:PT1H
X-Robots-Tag:noindex
X-PUBLISHED-TTL:PT1H
BEGIN:VTIMEZONE
TZID:America/Chicago
BEGIN:DAYLIGHT
TZOFFSETFROM:-0600
TZOFFSETTO:-0500
TZNAME:CDT
DTSTART:20190310T080000
END:DAYLIGHT
BEGIN:STANDARD
TZOFFSETFROM:-0500
TZOFFSETTO:-0600
TZNAME:CST
DTSTART:20191103T070000
END:STANDARD
BEGIN:DAYLIGHT
TZOFFSETFROM:-0600
TZOFFSETTO:-0500
TZNAME:CDT
DTSTART:20200308T080000
END:DAYLIGHT
BEGIN:STANDARD
TZOFFSETFROM:-0500
TZOFFSETTO:-0600
TZNAME:CST
DTSTART:20201101T070000
END:STANDARD
BEGIN:DAYLIGHT
TZOFFSETFROM:-0600
TZOFFSETTO:-0500
TZNAME:CDT
DTSTART:20210314T080000
END:DAYLIGHT
BEGIN:STANDARD
TZOFFSETFROM:-0500
TZOFFSETTO:-0600
TZNAME:CST
DTSTART:20211107T070000
END:STANDARD
END:VTIMEZONE
BEGIN:VEVENT
DTSTART;TZID=America/Chicago:20200402T100000
DTEND;TZID=America/Chicago:20200402T110000
DTSTAMP:20260422T035406
CREATED:20200324T175307Z
LAST-MODIFIED:20200324T175307Z
UID:3997-1585821600-1585825200@www.mcconnellafblibrary.com
SUMMARY:Data Bytes
DESCRIPTION:Database tutorials via Facebook page.
URL:https://www.mcconnellafblibrary.com/event/data-bytes/
LOCATION:Library Facebook Page
CATEGORIES:Adult
ATTACH;FMTTYPE=image/jpeg:https://www.mcconnellafblibrary.com/wp-content/uploads/2020/03/This-Week-4-30.jpg
END:VEVENT
BEGIN:VEVENT
DTSTART;TZID=America/Chicago:20200409T100000
DTEND;TZID=America/Chicago:20200409T110000
DTSTAMP:20260422T035406
CREATED:20200408T172329Z
LAST-MODIFIED:20200408T192756Z
UID:4013-1586426400-1586430000@www.mcconnellafblibrary.com
SUMMARY:Database Highlight: Universal Class and Learning Express
DESCRIPTION:
URL:https://www.mcconnellafblibrary.com/event/database-highlight-universal-class-and-learning-express/
LOCATION:Library Facebook Page
CATEGORIES:Adult
ATTACH;FMTTYPE=image/jpeg:https://www.mcconnellafblibrary.com/wp-content/uploads/2020/04/This-weeks-Virtual-Programs-Apr-6-Apr-10.jpg
END:VEVENT
BEGIN:VEVENT
DTSTART;TZID=America/Chicago:20200416T100000
DTEND;TZID=America/Chicago:20200416T110000
DTSTAMP:20260422T035406
CREATED:20200408T173813Z
LAST-MODIFIED:20200408T193755Z
UID:4025-1587031200-1587034800@www.mcconnellafblibrary.com
SUMMARY:Database Highlight: Movies and Music
DESCRIPTION:
URL:https://www.mcconnellafblibrary.com/event/database-highlight-movies-and-music/
LOCATION:Library Facebook Page
CATEGORIES:Adult
ATTACH;FMTTYPE=image/jpeg:https://www.mcconnellafblibrary.com/wp-content/uploads/2020/04/This-weeks-Virtual-Programs-Apr-13-Apr-17-1.jpg
END:VEVENT
BEGIN:VEVENT
DTSTART;TZID=America/Chicago:20200423T100000
DTEND;TZID=America/Chicago:20200423T110000
DTSTAMP:20260422T035406
CREATED:20200408T174345Z
LAST-MODIFIED:20200408T194942Z
UID:4035-1587636000-1587639600@www.mcconnellafblibrary.com
SUMMARY:Database Highlight: Mango Languages
DESCRIPTION:
URL:https://www.mcconnellafblibrary.com/event/database-highlight-mango-languages/
LOCATION:Library Facebook Page
CATEGORIES:Adult
ATTACH;FMTTYPE=image/jpeg:https://www.mcconnellafblibrary.com/wp-content/uploads/2020/04/This-weeks-Virtual-Programs-Apr-20-Apr-24.jpg
END:VEVENT
END:VCALENDAR