BEGIN:VCALENDAR
VERSION:2.0
PRODID:-//McConnell AFB Library - ECPv6.15.20//NONSGML v1.0//EN
CALSCALE:GREGORIAN
METHOD:PUBLISH
X-ORIGINAL-URL:https://www.mcconnellafblibrary.com
X-WR-CALDESC:Events for McConnell AFB Library
REFRESH-INTERVAL;VALUE=DURATION:PT1H
X-Robots-Tag:noindex
X-PUBLISHED-TTL:PT1H
BEGIN:VTIMEZONE
TZID:America/Chicago
BEGIN:DAYLIGHT
TZOFFSETFROM:-0600
TZOFFSETTO:-0500
TZNAME:CDT
DTSTART:20240310T080000
END:DAYLIGHT
BEGIN:STANDARD
TZOFFSETFROM:-0500
TZOFFSETTO:-0600
TZNAME:CST
DTSTART:20241103T070000
END:STANDARD
BEGIN:DAYLIGHT
TZOFFSETFROM:-0600
TZOFFSETTO:-0500
TZNAME:CDT
DTSTART:20250309T080000
END:DAYLIGHT
BEGIN:STANDARD
TZOFFSETFROM:-0500
TZOFFSETTO:-0600
TZNAME:CST
DTSTART:20251102T070000
END:STANDARD
BEGIN:DAYLIGHT
TZOFFSETFROM:-0600
TZOFFSETTO:-0500
TZNAME:CDT
DTSTART:20260308T080000
END:DAYLIGHT
BEGIN:STANDARD
TZOFFSETFROM:-0500
TZOFFSETTO:-0600
TZNAME:CST
DTSTART:20261101T070000
END:STANDARD
END:VTIMEZONE
BEGIN:VEVENT
DTSTART;TZID=America/Chicago:20250224T173000
DTEND;TZID=America/Chicago:20250224T183000
DTSTAMP:20260424T065713
CREATED:20250102T163439Z
LAST-MODIFIED:20250102T194021Z
UID:6798-1740418200-1740421800@www.mcconnellafblibrary.com
SUMMARY:As The Page Turns
DESCRIPTION:
URL:https://www.mcconnellafblibrary.com/event/as-the-page-turns-23/
LOCATION:Library Sunflower Room\, Across the hall from the Library\, United States
CATEGORIES:Adult
ATTACH;FMTTYPE=image/jpeg:https://www.mcconnellafblibrary.com/wp-content/uploads/2025/01/As-the-page-turns-Feb-11x8.5-updated.jpg
END:VEVENT
BEGIN:VEVENT
DTSTART;TZID=America/Chicago:20250224T190000
DTEND;TZID=America/Chicago:20250224T203000
DTSTAMP:20260424T065713
CREATED:20250102T163916Z
LAST-MODIFIED:20250102T194207Z
UID:6802-1740423600-1740429000@www.mcconnellafblibrary.com
SUMMARY:Craftaholics
DESCRIPTION:
URL:https://www.mcconnellafblibrary.com/event/craftaholics-27/
LOCATION:Library Sunflower Room\, Across the hall from the Library\, United States
CATEGORIES:Adult
ATTACH;FMTTYPE=image/jpeg:https://www.mcconnellafblibrary.com/wp-content/uploads/2025/01/Craftaholics-february-11x8.5-updated.jpg
END:VEVENT
END:VCALENDAR